BEGIN:VCALENDAR
VERSION:2.0
PRODID:-//Summer Search - ECPv6.14.1//NONSGML v1.0//EN
CALSCALE:GREGORIAN
METHOD:PUBLISH
X-WR-CALNAME:Summer Search
X-ORIGINAL-URL:https://summersearch.org
X-WR-CALDESC:Events for Summer Search
REFRESH-INTERVAL;VALUE=DURATION:PT1H
X-Robots-Tag:noindex
X-PUBLISHED-TTL:PT1H
BEGIN:VTIMEZONE
TZID:America/New_York
BEGIN:DAYLIGHT
TZOFFSETFROM:-0500
TZOFFSETTO:-0400
TZNAME:EDT
DTSTART:20240310T070000
END:DAYLIGHT
BEGIN:STANDARD
TZOFFSETFROM:-0400
TZOFFSETTO:-0500
TZNAME:EST
DTSTART:20241103T060000
END:STANDARD
END:VTIMEZONE
BEGIN:VEVENT
DTSTART;TZID=America/New_York:20240821T120000
DTEND;TZID=America/New_York:20240821T130000
DTSTAMP:20260422T143841
CREATED:20240722T112833Z
LAST-MODIFIED:20240722T112833Z
UID:10000006-1724241600-1724245200@summersearch.org
SUMMARY:Boston Deep Dive Dialogue: Summer Programs
DESCRIPTION:Wednesday\, August 21st | 12:00 PM\nThis 1-hour virtual event is an opportunity for a small group to come together with program staff and Summer Search students to learn more about our Summer Programming in Boston – our model\, partnerships\, and results from Summer 2024. \nRegister with the link below!
URL:https://summersearch.org/event/boston-deep-dive-dialogue-summer-programs/
CATEGORIES:Virtual
ATTACH;FMTTYPE=image/jpeg:https://summersearch.org/wp-content/uploads/2024/04/Kroka_2022_Boston_High5_hrz-e1754501313509.jpg
END:VEVENT
BEGIN:VEVENT
DTSTART;TZID=America/New_York:20240624T100000
DTEND;TZID=America/New_York:20240624T180000
DTSTAMP:20260422T143841
CREATED:20240426T143052Z
LAST-MODIFIED:20240426T143052Z
UID:10000003-1719223200-1719252000@summersearch.org
SUMMARY:7th Annual Summer Search Philadelphia Golf Classic\, Presented by EY
DESCRIPTION:Thank you for joining us at our 7th Annual Summer Search Philadelphia Golf Classic!\nOur Annual Golf Classic took place on Monday\, June 24\, 2024\, at the prestigious Stonewall courses in Elverson\, PA – where swinging for a cause met a day of camaraderie on the greens! \nA day tailor-made for fun\, forging connections with colleagues and friends\, and most importantly\, championing the transformative mission of Summer Search Philadelphia. \nBut wait\, it didn’t stop there! On Sunday\, June 23\, we also teed off with our Golf Leadership Academy that introduced 40 Summer Search students and alumni to the game of golf. It’s not just about sinking putts; it’s about unlocking doors to new opportunities. Golf isn’t just a game\, it’s a masterclass in life skills. A huge thank you to EY and our golf celebrity\, Alexis Belton\, for making the Golf Leadership Academy a reality! \nTo our sponsors\, partners\, and every hand that’s lifted to support our cause – THANK YOU! With your generous support\, we were able to raise more than $230\,000 for our youth! Since 2017\, this event\, combined with other fundraising efforts\, have allowed us to deepen our impact and strengthen our program model. Whether you are a returning sponsor\, or joining us for the first time\, we are grateful for your support of our mission and the deserving students we serve. \n \nStill interested in donating?\nIf you were unable to attend and would like to contribute to Summer Search Philadelphia you may do so at the button below: \nDonate Now \n  \nA Heartfelt Thank You to Our Sponsors:
URL:https://summersearch.org/event/2024-philadelphia-golf-classic/
CATEGORIES:Fundraising,IRL,Networking
ATTACH;FMTTYPE=image/jpeg:https://summersearch.org/wp-content/uploads/2024/04/GolfLeadershipAcademy2024GroupG-1-scaled-1.jpg
END:VEVENT
BEGIN:VEVENT
DTSTART;TZID=America/New_York:20240610T110000
DTEND;TZID=America/New_York:20240610T180000
DTSTAMP:20260422T143841
CREATED:20240423T103636Z
LAST-MODIFIED:20240423T103636Z
UID:10000002-1718017200-1718042400@summersearch.org
SUMMARY:10th Annual Summer Search NYC Golf Outing
DESCRIPTION:Monday\, June 10th | Baltusrol Golf Club\nWe are thrilled to invite you to our 10th Annual Golf Outing at Baltusrol Golf Club. Located at the base of Baltusrol Mountain in Springfield\, New Jersey\, this incredible club will serve as a backdrop for a day of golf\, networking\, and fun. Join us and support Summer Search’s amazing students\, holistic programming\, and transformative experiences. \nSchedule for the Day: \n\n11:00 AM REGISTRATION\n11:30 AM LUNCH\n12:30 PM SHOTGUN\n5:30 PM COCKTAIL RECEPTION\n\nBaltusrol Golf Club is a walking facility and requests that you plan to use the caddies and reserve the use of golf carts for only those with medical excuses as established by a doctor’s order. The use of a golf cart will only be permitted by those who present a note from a medical doctor. \nSponsorships\nPlease reach out to Allison Brooks\, Institutional Partnerships Manager at abrooks@summersearch.org for more information. \n*Note: Only sponsorships at the Hole Sponsor level and above include a foursome. \n \n\n \n\n  \nUnable to make it? Please consider donating!\n\nA Huge Thank You to our 2024 Golf Committee & Sponsors \n\n\n\n\n\n\n\nEvent Chair: Nina Yadava\, Jones Day\nJean-Marie Painvin\, JMC Family Office\nJenni Humes\, JPMorgan Chase & Co.\nJeff Westerberg\, PwC\nGraves Tompkins\, General Atlantic
URL:https://summersearch.org/event/ssnycgolf2024/
CATEGORIES:Fundraising,IRL,Networking
ATTACH;FMTTYPE=image/jpeg:https://summersearch.org/wp-content/uploads/2024/04/baltusrol-NYC-Golf-cover-v2.jpg
END:VEVENT
BEGIN:VEVENT
DTSTART;TZID=America/New_York:20240405T180000
DTEND;TZID=America/New_York:20240405T210000
DTSTAMP:20260422T143841
CREATED:20240327T221628Z
LAST-MODIFIED:20240327T221628Z
UID:10000001-1712340000-1712350800@summersearch.org
SUMMARY:Voices of Summer Search 2024
DESCRIPTION:Voices of Summer Search is back for 2024!\nVoices of Summer Search will take place on April 2nd\, 2024 at GBH Studios. We’re so excited to bring back to the stage the stories of our Summer Search community and build on what we started last year to bring an even better event forward. \n6 PM – 7 PM Cocktail Reception \n7 PM – 8 PM Oral Storytelling Program \n8 PM – 8:30 PM Dessert Reception
URL:https://summersearch.org/event/voices-of-summer-search-2024/
CATEGORIES:Virtual
ATTACH;FMTTYPE=image/png:https://summersearch.org/wp-content/uploads/2024/03/BO-Voices-2024-Event-Cover.png
END:VEVENT
END:VCALENDAR